BEGIN:VCALENDAR
VERSION:2.0
PRODID:-//Centar za istraživanja i razvoj vrhunske sportske pripreme - ECPv6.2.4//NONSGML v1.0//EN
CALSCALE:GREGORIAN
METHOD:PUBLISH
X-WR-CALNAME:Centar za istraživanja i razvoj vrhunske sportske pripreme
X-ORIGINAL-URL:https://cirsp.hr
X-WR-CALDESC:Događaji za Centar za istraživanja i razvoj vrhunske sportske pripreme
REFRESH-INTERVAL;VALUE=DURATION:PT1H
X-Robots-Tag:noindex
X-PUBLISHED-TTL:PT1H
BEGIN:VTIMEZONE
TZID:Europe/Zagreb
BEGIN:DAYLIGHT
TZOFFSETFROM:+0100
TZOFFSETTO:+0200
TZNAME:CEST
DTSTART:20250330T010000
END:DAYLIGHT
BEGIN:STANDARD
TZOFFSETFROM:+0200
TZOFFSETTO:+0100
TZNAME:CET
DTSTART:20251026T010000
END:STANDARD
END:VTIMEZONE
BEGIN:VEVENT
DTSTART;TZID=Europe/Zagreb:20250523T120000
DTEND;TZID=Europe/Zagreb:20250523T140000
DTSTAMP:20260423T003202
CREATED:20250508T091544Z
LAST-MODIFIED:20250508T092420Z
UID:9224-1748001600-1748008800@cirsp.hr
SUMMARY:Marin Dadić - Oporavak u sportu: update 2025.
DESCRIPTION:Radionice su namijenjene trenerima sportaša uključenih u programe HOO-a\, uključujući olimpijski program\, program Olimpijske nade te razvojne programe. Održavat će se u uredu CIRSP-a na Kineziološkom fakultetu Sveučilišta u Zagrebu i Splitu\, uz mogućnost sudjelovanja i online putem. \nSvrha radionica: Radionice su predviđene za trenere koji žele steći nova znanja i vještine u radu sa sportašima\, nadograditi postojeće kompetencije i pratiti aktualne trendove u sportu. Cilj radionica je sustavno razvijati trenerske vještine\, omogućiti dijeljenje iskustava među trenerima iz različitih sportskih grana\, te doprinijeti unapređenju hrvatskog sporta na svim razinama.
URL:https://cirsp.hr/dogadanje/marin-dadic-oporavak-u-sportu-update-2025/
ORGANIZER;CN="CIRSP":MAILTO:cirsp@hoo.hr
END:VEVENT
BEGIN:VEVENT
DTSTART;TZID=Europe/Zagreb:20250516T120000
DTEND;TZID=Europe/Zagreb:20250516T140000
DTSTAMP:20260423T003202
CREATED:20250508T091359Z
LAST-MODIFIED:20250508T092430Z
UID:9218-1747396800-1747404000@cirsp.hr
SUMMARY:Šime Veršić - (Ne)kontrolabilni faktori rizika od ozljeda
DESCRIPTION:Radionice su namijenjene trenerima sportaša uključenih u programe HOO-a\, uključujući olimpijski program\, program Olimpijske nade te razvojne programe. Održavat će se u uredu CIRSP-a na Kineziološkom fakultetu Sveučilišta u Zagrebu i Splitu\, uz mogućnost sudjelovanja i online putem. \nSvrha radionica: Radionice su predviđene za trenere koji žele steći nova znanja i vještine u radu sa sportašima\, nadograditi postojeće kompetencije i pratiti aktualne trendove u sportu. Cilj radionica je sustavno razvijati trenerske vještine\, omogućiti dijeljenje iskustava među trenerima iz različitih sportskih grana\, te doprinijeti unapređenju hrvatskog sporta na svim razinama.
URL:https://cirsp.hr/dogadanje/sime-versic-nekontrolabilni-faktori-rizika-od-ozljeda/
LOCATION:Kineziološki fakultet u Splitu\, Ul. Nikole Tesle 6\, Split\, Hrvatska\, 21000
ORGANIZER;CN="CIRSP":MAILTO:cirsp@hoo.hr
END:VEVENT
BEGIN:VEVENT
DTSTART;TZID=Europe/Zagreb:20250508T120000
DTEND;TZID=Europe/Zagreb:20250508T140000
DTSTAMP:20260423T003202
CREATED:20250508T084715Z
LAST-MODIFIED:20250508T092435Z
UID:9210-1746705600-1746712800@cirsp.hr
SUMMARY:Matej Tomazin - Mentalne simulacije kroz sezone
DESCRIPTION:Radionice su namijenjene trenerima sportaša uključenih u programe HOO-a\, uključujući olimpijski program\, program Olimpijske nade te razvojne programe. Održavat će se u uredu CIRSP-a na Kineziološkom fakultetu Sveučilišta u Zagrebu i Splitu\, uz mogućnost sudjelovanja i online putem. \nSvrha radionica: Radionice su predviđene za trenere koji žele steći nova znanja i vještine u radu sa sportašima\, nadograditi postojeće kompetencije i pratiti aktualne trendove u sportu. Cilj radionica je sustavno razvijati trenerske vještine\, omogućiti dijeljenje iskustava među trenerima iz različitih sportskih grana\, te doprinijeti unapređenju hrvatskog sporta na svim razinama.
URL:https://cirsp.hr/dogadanje/matej-tomazin-mentalne-simulacije-kroz-sezone/
LOCATION:Kineziološki fakultet\, centralni ured CIRSP-a u Zagrebu\, Horvaćanski zavoj 15\, Zagreb\, Hrvatska\, 10110
ORGANIZER;CN="CIRSP":MAILTO:cirsp@hoo.hr
END:VEVENT
END:VCALENDAR