BEGIN:VCALENDAR
VERSION:2.0
PRODID:-//Centar za istraživanja i razvoj vrhunske sportske pripreme - ECPv6.2.4//NONSGML v1.0//EN
CALSCALE:GREGORIAN
METHOD:PUBLISH
X-ORIGINAL-URL:https://cirsp.hr
X-WR-CALDESC:Događaji za Centar za istraživanja i razvoj vrhunske sportske pripreme
REFRESH-INTERVAL;VALUE=DURATION:PT1H
X-Robots-Tag:noindex
X-PUBLISHED-TTL:PT1H
BEGIN:VTIMEZONE
TZID:Europe/Zagreb
BEGIN:DAYLIGHT
TZOFFSETFROM:+0100
TZOFFSETTO:+0200
TZNAME:CEST
DTSTART:20260329T010000
END:DAYLIGHT
BEGIN:STANDARD
TZOFFSETFROM:+0200
TZOFFSETTO:+0100
TZNAME:CET
DTSTART:20261025T010000
END:STANDARD
END:VTIMEZONE
BEGIN:VEVENT
DTSTART;TZID=Europe/Zagreb:20260521T120000
DTEND;TZID=Europe/Zagreb:20260521T140000
DTSTAMP:20260423T000134
CREATED:20260209T093537Z
LAST-MODIFIED:20260209T093537Z
UID:9691-1779364800-1779372000@cirsp.hr
SUMMARY:Stella Mirić – Nutricionistički izazovi i rješenja u profesionalnom seniorskom klubu
DESCRIPTION:Radionice su namijenjene trenerima sportaša uključenih u programe HOO-a\, uključujući olimpijski program\, program Olimpijske nade te razvojne programe. Održavat će se u centralnom uredu CIRSP-a u Hrvatskom olimpijskom odboru (Odranska 1/1)\, uz mogućnost sudjelovanja i online putem. \nSvrha radionica: Radionice su predviđene za trenere koji žele steći nova znanja i vještine u radu sa sportašima\, nadograditi postojeće kompetencije i pratiti aktualne trendove u sportu. Cilj radionica je sustavno razvijati trenerske vještine\, omogućiti dijeljenje iskustava među trenerima iz različitih sportskih grana\, te doprinijeti unapređenju hrvatskog sporta na svim razinama.
URL:https://cirsp.hr/dogadanje/stella-miric-nutricionisticki-izazovi-i-rjesenja-u-profesionalnom-seniorskom-klubu/
ORGANIZER;CN="CIRSP":MAILTO:cirsp@hoo.hr
END:VEVENT
BEGIN:VEVENT
DTSTART;TZID=Europe/Zagreb:20260602T120000
DTEND;TZID=Europe/Zagreb:20260602T140000
DTSTAMP:20260423T000134
CREATED:20260209T091952Z
LAST-MODIFIED:20260317T154252Z
UID:9679-1780401600-1780408800@cirsp.hr
SUMMARY:Renato Šunjerga – Kombinirani/konkurentni trening snage i izdržljivosti kod  muškaraca i žena
DESCRIPTION:Radionice su namijenjene trenerima sportaša uključenih u programe HOO-a\, uključujući olimpijski program\, program Olimpijske nade te razvojne programe. Održavat će se u centralnom uredu CIRSP-a u Hrvatskom olimpijskom odboru (Odranska 1/1)\, uz mogućnost sudjelovanja i online putem. \nSvrha radionica: Radionice su predviđene za trenere koji žele steći nova znanja i vještine u radu sa sportašima\, nadograditi postojeće kompetencije i pratiti aktualne trendove u sportu. Cilj radionica je sustavno razvijati trenerske vještine\, omogućiti dijeljenje iskustava među trenerima iz različitih sportskih grana\, te doprinijeti unapređenju hrvatskog sporta na svim razinama.
URL:https://cirsp.hr/dogadanje/renato-sunjerga-kombinirani-konkurentni-trening-snage-i-izdrzljivosti-kod-muskaraca-i-zena/
ORGANIZER;CN="CIRSP":MAILTO:cirsp@hoo.hr
END:VEVENT
END:VCALENDAR