BEGIN:VCALENDAR
VERSION:2.0
PRODID:-//Centar za istraživanja i razvoj vrhunske sportske pripreme - ECPv6.2.4//NONSGML v1.0//EN
CALSCALE:GREGORIAN
METHOD:PUBLISH
X-WR-CALNAME:Centar za istraživanja i razvoj vrhunske sportske pripreme
X-ORIGINAL-URL:https://cirsp.hr
X-WR-CALDESC:Događaji za Centar za istraživanja i razvoj vrhunske sportske pripreme
REFRESH-INTERVAL;VALUE=DURATION:PT1H
X-Robots-Tag:noindex
X-PUBLISHED-TTL:PT1H
BEGIN:VTIMEZONE
TZID:Europe/Zagreb
BEGIN:DAYLIGHT
TZOFFSETFROM:+0100
TZOFFSETTO:+0200
TZNAME:CEST
DTSTART:20250330T010000
END:DAYLIGHT
BEGIN:STANDARD
TZOFFSETFROM:+0200
TZOFFSETTO:+0100
TZNAME:CET
DTSTART:20251026T010000
END:STANDARD
BEGIN:DAYLIGHT
TZOFFSETFROM:+0100
TZOFFSETTO:+0200
TZNAME:CEST
DTSTART:20260329T010000
END:DAYLIGHT
BEGIN:STANDARD
TZOFFSETFROM:+0200
TZOFFSETTO:+0100
TZNAME:CET
DTSTART:20261025T010000
END:STANDARD
END:VTIMEZONE
BEGIN:VEVENT
DTSTART;TZID=Europe/Zagreb:20260410T120000
DTEND;TZID=Europe/Zagreb:20260410T140000
DTSTAMP:20260422T235942
CREATED:20260407T075951Z
LAST-MODIFIED:20260407T075951Z
UID:9732-1775822400-1775829600@cirsp.hr
SUMMARY:Ivan Drviš– "Što vrhunski treneri vide\, a drugi ne: latentna struktura sportske izvedbe"
DESCRIPTION:Radionice su namijenjene trenerima sportaša uključenih u programe HOO-a\, uključujući olimpijski program\, program Olimpijske nade te razvojne programe. Održavat će se u centralnom uredu CIRSP-a u Hrvatskom olimpijskom odboru (Odranska 1/1)\, uz mogućnost sudjelovanja i online putem. \nSvrha radionica: Radionice su predviđene za trenere koji žele steći nova znanja i vještine u radu sa sportašima\, nadograditi postojeće kompetencije i pratiti aktualne trendove u sportu. Cilj radionica je sustavno razvijati trenerske vještine\, omogućiti dijeljenje iskustava među trenerima iz različitih sportskih grana\, te doprinijeti unapređenju hrvatskog sporta na svim razinama.
URL:https://cirsp.hr/dogadanje/ivan-drvis-sto-vrhunski-treneri-vide-a-drugi-ne-latentna-struktura-sportske-izvedbe/
ORGANIZER;CN="CIRSP":MAILTO:cirsp@hoo.hr
END:VEVENT
BEGIN:VEVENT
DTSTART;TZID=Europe/Zagreb:20260319T120000
DTEND;TZID=Europe/Zagreb:20260319T140000
DTSTAMP:20260422T235942
CREATED:20260209T091855Z
LAST-MODIFIED:20260317T112716Z
UID:9677-1773921600-1773928800@cirsp.hr
SUMMARY:Sebastijan Orlić – Optimalne životne performanse i dugovječnost trenera i sportaša nakon sportske karijere
DESCRIPTION:Radionice su namijenjene trenerima sportaša uključenih u programe HOO-a\, uključujući olimpijski program\, program Olimpijske nade te razvojne programe. Održavat će se u centralnom uredu CIRSP-a u Hrvatskom olimpijskom odboru (Odranska 1/1)\, uz mogućnost sudjelovanja i online putem. \nSvrha radionica: Radionice su predviđene za trenere koji žele steći nova znanja i vještine u radu sa sportašima\, nadograditi postojeće kompetencije i pratiti aktualne trendove u sportu. Cilj radionica je sustavno razvijati trenerske vještine\, omogućiti dijeljenje iskustava među trenerima iz različitih sportskih grana\, te doprinijeti unapređenju hrvatskog sporta na svim razinama.
URL:https://cirsp.hr/dogadanje/sebastijan-orlic-optimalne-performanse-i-dugovjecnost-nakon-sportske-karijere/
ORGANIZER;CN="CIRSP":MAILTO:cirsp@hoo.hr
END:VEVENT
BEGIN:VEVENT
DTSTART;TZID=Europe/Zagreb:20260309T120000
DTEND;TZID=Europe/Zagreb:20260309T140000
DTSTAMP:20260422T235942
CREATED:20260209T091725Z
LAST-MODIFIED:20260209T091725Z
UID:9674-1773057600-1773064800@cirsp.hr
SUMMARY:Igor Čerenšek – Leadership u sportu – 3. dio
DESCRIPTION:Radionice su namijenjene trenerima sportaša uključenih u programe HOO-a\, uključujući olimpijski program\, program Olimpijske nade te razvojne programe. Održavat će se u centralnom uredu CIRSP-a u Hrvatskom olimpijskom odboru (Odranska 1/1)\, uz mogućnost sudjelovanja i online putem. \nSvrha radionica: Radionice su predviđene za trenere koji žele steći nova znanja i vještine u radu sa sportašima\, nadograditi postojeće kompetencije i pratiti aktualne trendove u sportu. Cilj radionica je sustavno razvijati trenerske vještine\, omogućiti dijeljenje iskustava među trenerima iz različitih sportskih grana\, te doprinijeti unapređenju hrvatskog sporta na svim razinama.
URL:https://cirsp.hr/dogadanje/igor-cerensek-leadership-u-sportu-3-dio/
ORGANIZER;CN="CIRSP":MAILTO:cirsp@hoo.hr
END:VEVENT
BEGIN:VEVENT
DTSTART;TZID=Europe/Zagreb:20260220T093000
DTEND;TZID=Europe/Zagreb:20260221T170000
DTSTAMP:20260422T235942
CREATED:20260209T094040Z
LAST-MODIFIED:20260209T094213Z
UID:9693-1771579800-1771693200@cirsp.hr
SUMMARY:24. GODIŠNJA MEĐUNARODNA KONFERENCIJA KONDICIJSKA PRIPREMA SPORTAŠA
DESCRIPTION:Prijave za konferenciju: https://forms.gle/ywqpUnnvYgtuJmQGA  \nKonferencija je namijenjena:\n• kondicijskim trenerima\n• sportskim trenerima\n• sportskim liječnicima i fizioterapeutima\n• profesorima kineziologije\n• studentima Kineziološkog fakulteta Sveučilišta u Zagrebu\n• ostalim stručnim kadrovima u sportu \nTeme:\n1. Biomedicinske i biomehaničke osnove kondicijskog treninga\n2. Dijagnostika kondicijskih sposobnosti\n3. Metodika kondicijskog treninga u pojedinim sportovima\n4. Programi kondicijske pripreme\n5. Prevencija ozljeda u sportu\n6. Kondicijska priprema posebnih populacija (vojska\, policija\, vatrogasci…)\n7. Kondicijska priprema u parasportu\n8. Kondicijski trening djece i mladih\n9. Suvremena trenažna oprema u kondicijskom treningu\n10. Kondicijska priprema u funkciji zdravlja
URL:https://cirsp.hr/dogadanje/24-godisnja-medunarodna-konferencija-kondicijska-priprema-sportasa/
ORGANIZER;CN="CIRSP":MAILTO:cirsp@hoo.hr
END:VEVENT
BEGIN:VEVENT
DTSTART;TZID=Europe/Zagreb:20260217T120000
DTEND;TZID=Europe/Zagreb:20260217T140000
DTSTAMP:20260422T235942
CREATED:20260209T091531Z
LAST-MODIFIED:20260209T091531Z
UID:9671-1771329600-1771336800@cirsp.hr
SUMMARY:Saša Baščevan – Tema iz područja rehabilitacije
DESCRIPTION:Radionice su namijenjene trenerima sportaša uključenih u programe HOO-a\, uključujući olimpijski program\, program Olimpijske nade te razvojne programe. Održavat će se u centralnom uredu CIRSP-a u Hrvatskom olimpijskom odboru (Odranska 1/1)\, uz mogućnost sudjelovanja i online putem. \nSvrha radionica: Radionice su predviđene za trenere koji žele steći nova znanja i vještine u radu sa sportašima\, nadograditi postojeće kompetencije i pratiti aktualne trendove u sportu. Cilj radionica je sustavno razvijati trenerske vještine\, omogućiti dijeljenje iskustava među trenerima iz različitih sportskih grana\, te doprinijeti unapređenju hrvatskog sporta na svim razinama.
URL:https://cirsp.hr/dogadanje/sasa-bascevan-tema-iz-podrucja-rehabilitacije/
ORGANIZER;CN="CIRSP":MAILTO:cirsp@hoo.hr
END:VEVENT
BEGIN:VEVENT
DTSTART;TZID=Europe/Zagreb:20260209T120000
DTEND;TZID=Europe/Zagreb:20260209T140000
DTSTAMP:20260422T235942
CREATED:20260209T091319Z
LAST-MODIFIED:20260209T091421Z
UID:9668-1770638400-1770645600@cirsp.hr
SUMMARY:Igor Čerenšek – Leadership u sportu – 2. dio
DESCRIPTION:Radionice su namijenjene trenerima sportaša uključenih u programe HOO-a\, uključujući olimpijski program\, program Olimpijske nade te razvojne programe. Održavat će se u centralnom uredu CIRSP-a u Hrvatskom olimpijskom odboru (Odranska 1/1)\, uz mogućnost sudjelovanja i online putem. \nSvrha radionica: Radionice su predviđene za trenere koji žele steći nova znanja i vještine u radu sa sportašima\, nadograditi postojeće kompetencije i pratiti aktualne trendove u sportu. Cilj radionica je sustavno razvijati trenerske vještine\, omogućiti dijeljenje iskustava među trenerima iz različitih sportskih grana\, te doprinijeti unapređenju hrvatskog sporta na svim razinama.
URL:https://cirsp.hr/dogadanje/igor-cerensek-leadership-u-sportu-2-dio/
ORGANIZER;CN="CIRSP":MAILTO:cirsp@hoo.hr
END:VEVENT
BEGIN:VEVENT
DTSTART;TZID=Europe/Zagreb:20251215T120000
DTEND;TZID=Europe/Zagreb:20251215T140000
DTSTAMP:20260422T235942
CREATED:20251006T114832Z
LAST-MODIFIED:20251006T114832Z
UID:9572-1765800000-1765807200@cirsp.hr
SUMMARY:Igor Čerenšek- Leadership u sportu
DESCRIPTION:Radionice su namijenjene trenerima sportaša uključenih u programe HOO-a\, uključujući olimpijski program\, program Olimpijske nade te razvojne programe. Održavat će se u uredu CIRSP-a na Kineziološkom fakultetu Sveučilišta u Zagrebu i Splitu\, uz mogućnost sudjelovanja i online putem. \nSvrha radionica: Radionice su predviđene za trenere koji žele steći nova znanja i vještine u radu sa sportašima\, nadograditi postojeće kompetencije i pratiti aktualne trendove u sportu. Cilj radionica je sustavno razvijati trenerske vještine\, omogućiti dijeljenje iskustava među trenerima iz različitih sportskih grana\, te doprinijeti unapređenju hrvatskog sporta na svim razinama.
URL:https://cirsp.hr/dogadanje/igor-cerensek-leadership-u-sportu/
ORGANIZER;CN="CIRSP":MAILTO:cirsp@hoo.hr
END:VEVENT
BEGIN:VEVENT
DTSTART;TZID=Europe/Zagreb:20251211T120000
DTEND;TZID=Europe/Zagreb:20251211T140000
DTSTAMP:20260422T235942
CREATED:20250924T100101Z
LAST-MODIFIED:20251124T115333Z
UID:9554-1765454400-1765461600@cirsp.hr
SUMMARY:Martina Dadić- Prehrana sportaša na putovanjima i natjecanjima
DESCRIPTION:Radionice su namijenjene trenerima sportaša uključenih u programe HOO-a\, uključujući olimpijski program\, program Olimpijske nade te razvojne programe. Održavat će se u uredu CIRSP-a na Kineziološkom fakultetu Sveučilišta u Zagrebu i Splitu\, uz mogućnost sudjelovanja i online putem. \nSvrha radionica: Radionice su predviđene za trenere koji žele steći nova znanja i vještine u radu sa sportašima\, nadograditi postojeće kompetencije i pratiti aktualne trendove u sportu. Cilj radionica je sustavno razvijati trenerske vještine\, omogućiti dijeljenje iskustava među trenerima iz različitih sportskih grana\, te doprinijeti unapređenju hrvatskog sporta na svim razinama.
URL:https://cirsp.hr/dogadanje/martina-dadic-prehrana-sportasa-na-putovanjima/
ORGANIZER;CN="CIRSP":MAILTO:cirsp@hoo.hr
END:VEVENT
BEGIN:VEVENT
DTSTART;TZID=Europe/Zagreb:20251204T120000
DTEND;TZID=Europe/Zagreb:20251204T140000
DTSTAMP:20260422T235942
CREATED:20250924T100206Z
LAST-MODIFIED:20250924T100624Z
UID:9556-1764849600-1764856800@cirsp.hr
SUMMARY:Stella Mirić- Prehrana u cilju optimizacije performansi u ekipnim sportovima
DESCRIPTION:Radionice su namijenjene trenerima sportaša uključenih u programe HOO-a\, uključujući olimpijski program\, program Olimpijske nade te razvojne programe. Održavat će se u uredu CIRSP-a na Kineziološkom fakultetu Sveučilišta u Zagrebu i Splitu\, uz mogućnost sudjelovanja i online putem. \nSvrha radionica: Radionice su predviđene za trenere koji žele steći nova znanja i vještine u radu sa sportašima\, nadograditi postojeće kompetencije i pratiti aktualne trendove u sportu. Cilj radionica je sustavno razvijati trenerske vještine\, omogućiti dijeljenje iskustava među trenerima iz različitih sportskih grana\, te doprinijeti unapređenju hrvatskog sporta na svim razinama.
URL:https://cirsp.hr/dogadanje/stella-miric-prehrana-u-cilju-optimizacije-performansi-u-ekipnim-sportovima/
ORGANIZER;CN="CIRSP":MAILTO:cirsp@hoo.hr
END:VEVENT
BEGIN:VEVENT
DTSTART;TZID=Europe/Zagreb:20251117T120000
DTEND;TZID=Europe/Zagreb:20251117T140000
DTSTAMP:20260422T235942
CREATED:20250924T095959Z
LAST-MODIFIED:20250924T095959Z
UID:9552-1763380800-1763388000@cirsp.hr
SUMMARY:Sandra Đurijanček- Talent vs. growth mindset u sportu
DESCRIPTION:Radionice su namijenjene trenerima sportaša uključenih u programe HOO-a\, uključujući olimpijski program\, program Olimpijske nade te razvojne programe. Održavat će se u uredu CIRSP-a na Kineziološkom fakultetu Sveučilišta u Zagrebu i Splitu\, uz mogućnost sudjelovanja i online putem. \nSvrha radionica: Radionice su predviđene za trenere koji žele steći nova znanja i vještine u radu sa sportašima\, nadograditi postojeće kompetencije i pratiti aktualne trendove u sportu. Cilj radionica je sustavno razvijati trenerske vještine\, omogućiti dijeljenje iskustava među trenerima iz različitih sportskih grana\, te doprinijeti unapređenju hrvatskog sporta na svim razinama.
URL:https://cirsp.hr/dogadanje/sandra-durijancek-talent-vs-growth-mindset-u-sportu/
ORGANIZER;CN="CIRSP":MAILTO:cirsp@hoo.hr
END:VEVENT
BEGIN:VEVENT
DTSTART;TZID=Europe/Zagreb:20251113T120000
DTEND;TZID=Europe/Zagreb:20251113T140000
DTSTAMP:20260422T235942
CREATED:20250924T095904Z
LAST-MODIFIED:20250924T095904Z
UID:9550-1763035200-1763042400@cirsp.hr
SUMMARY:Sebastijan Orlić- Prehrana u cilju optimizacije performansi u sportovima izdržljivosti
DESCRIPTION:Radionice su namijenjene trenerima sportaša uključenih u programe HOO-a\, uključujući olimpijski program\, program Olimpijske nade te razvojne programe. Održavat će se u uredu CIRSP-a na Kineziološkom fakultetu Sveučilišta u Zagrebu i Splitu\, uz mogućnost sudjelovanja i online putem. \nSvrha radionica: Radionice su predviđene za trenere koji žele steći nova znanja i vještine u radu sa sportašima\, nadograditi postojeće kompetencije i pratiti aktualne trendove u sportu. Cilj radionica je sustavno razvijati trenerske vještine\, omogućiti dijeljenje iskustava među trenerima iz različitih sportskih grana\, te doprinijeti unapređenju hrvatskog sporta na svim razinama.
URL:https://cirsp.hr/dogadanje/sebastijan-orlic-prehrana-u-cilju-optimizacije-performansi-u-sportovima-izdrzljivosti/
ORGANIZER;CN="CIRSP":MAILTO:cirsp@hoo.hr
END:VEVENT
BEGIN:VEVENT
DTSTART;TZID=Europe/Zagreb:20251107T120000
DTEND;TZID=Europe/Zagreb:20251107T140000
DTSTAMP:20260422T235942
CREATED:20250924T095747Z
LAST-MODIFIED:20250924T095747Z
UID:9548-1762516800-1762524000@cirsp.hr
SUMMARY:Marko Matušinskij- Određivanje trenažnog opterećenja
DESCRIPTION:Radionice su namijenjene trenerima sportaša uključenih u programe HOO-a\, uključujući olimpijski program\, program Olimpijske nade te razvojne programe. Održavat će se u uredu CIRSP-a na Kineziološkom fakultetu Sveučilišta u Zagrebu i Splitu\, uz mogućnost sudjelovanja i online putem. \nSvrha radionica: Radionice su predviđene za trenere koji žele steći nova znanja i vještine u radu sa sportašima\, nadograditi postojeće kompetencije i pratiti aktualne trendove u sportu. Cilj radionica je sustavno razvijati trenerske vještine\, omogućiti dijeljenje iskustava među trenerima iz različitih sportskih grana\, te doprinijeti unapređenju hrvatskog sporta na svim razinama.
URL:https://cirsp.hr/dogadanje/marko-matusinskij-odredivanje-trenaznog-opterecenja/
ORGANIZER;CN="CIRSP":MAILTO:cirsp@hoo.hr
END:VEVENT
BEGIN:VEVENT
DTSTART;TZID=Europe/Zagreb:20251103T120000
DTEND;TZID=Europe/Zagreb:20251103T140000
DTSTAMP:20260422T235942
CREATED:20250924T095402Z
LAST-MODIFIED:20250924T095402Z
UID:9546-1762171200-1762178400@cirsp.hr
SUMMARY:Sandra Đurijanček- Ciljevi\, vrijednosti i motivacija
DESCRIPTION:Radionice su namijenjene trenerima sportaša uključenih u programe HOO-a\, uključujući olimpijski program\, program Olimpijske nade te razvojne programe. Održavat će se u uredu CIRSP-a na Kineziološkom fakultetu Sveučilišta u Zagrebu i Splitu\, uz mogućnost sudjelovanja i online putem. \nSvrha radionica: Radionice su predviđene za trenere koji žele steći nova znanja i vještine u radu sa sportašima\, nadograditi postojeće kompetencije i pratiti aktualne trendove u sportu. Cilj radionica je sustavno razvijati trenerske vještine\, omogućiti dijeljenje iskustava među trenerima iz različitih sportskih grana\, te doprinijeti unapređenju hrvatskog sporta na svim razinama.
URL:https://cirsp.hr/dogadanje/sandra-durijancek-ciljevi-vrijednosti-i-motivacija/
ORGANIZER;CN="CIRSP":MAILTO:cirsp@hoo.hr
END:VEVENT
BEGIN:VEVENT
DTSTART;TZID=Europe/Zagreb:20251030T120000
DTEND;TZID=Europe/Zagreb:20251030T140000
DTSTAMP:20260422T235942
CREATED:20250924T095302Z
LAST-MODIFIED:20250924T095302Z
UID:9544-1761825600-1761832800@cirsp.hr
SUMMARY:Tamara Despot- Ritam i učinkovitost kretanja u sportu
DESCRIPTION:Radionice su namijenjene trenerima sportaša uključenih u programe HOO-a\, uključujući olimpijski program\, program Olimpijske nade te razvojne programe. Održavat će se u uredu CIRSP-a na Kineziološkom fakultetu Sveučilišta u Zagrebu i Splitu\, uz mogućnost sudjelovanja i online putem. \nSvrha radionica: Radionice su predviđene za trenere koji žele steći nova znanja i vještine u radu sa sportašima\, nadograditi postojeće kompetencije i pratiti aktualne trendove u sportu. Cilj radionica je sustavno razvijati trenerske vještine\, omogućiti dijeljenje iskustava među trenerima iz različitih sportskih grana\, te doprinijeti unapređenju hrvatskog sporta na svim razinama.
URL:https://cirsp.hr/dogadanje/tamara-despot-ritam-i-ucinkovitost-kretanja-u-sportu/
ORGANIZER;CN="CIRSP":MAILTO:cirsp@hoo.hr
END:VEVENT
BEGIN:VEVENT
DTSTART;TZID=Europe/Zagreb:20251024T120000
DTEND;TZID=Europe/Zagreb:20251024T140000
DTSTAMP:20260422T235942
CREATED:20250924T095120Z
LAST-MODIFIED:20250924T095120Z
UID:9542-1761307200-1761314400@cirsp.hr
SUMMARY:Stella Mirić- Oporavak sportaša
DESCRIPTION:Radionice su namijenjene trenerima sportaša uključenih u programe HOO-a\, uključujući olimpijski program\, program Olimpijske nade te razvojne programe. Održavat će se u uredu CIRSP-a na Kineziološkom fakultetu Sveučilišta u Zagrebu i Splitu\, uz mogućnost sudjelovanja i online putem. \nSvrha radionica: Radionice su predviđene za trenere koji žele steći nova znanja i vještine u radu sa sportašima\, nadograditi postojeće kompetencije i pratiti aktualne trendove u sportu. Cilj radionica je sustavno razvijati trenerske vještine\, omogućiti dijeljenje iskustava među trenerima iz različitih sportskih grana\, te doprinijeti unapređenju hrvatskog sporta na svim razinama.
URL:https://cirsp.hr/dogadanje/stella-miric-oporavak-sportasa/
ORGANIZER;CN="CIRSP":MAILTO:cirsp@hoo.hr
END:VEVENT
BEGIN:VEVENT
DTSTART;TZID=Europe/Zagreb:20251020T120000
DTEND;TZID=Europe/Zagreb:20251020T140000
DTSTAMP:20260422T235942
CREATED:20250924T095006Z
LAST-MODIFIED:20250924T095006Z
UID:9540-1760961600-1760968800@cirsp.hr
SUMMARY:Igor Čerenšek s Dinom Levačić: Kako preplivati ocean – podcast uživo
DESCRIPTION:Radionice su namijenjene trenerima sportaša uključenih u programe HOO-a\, uključujući olimpijski program\, program Olimpijske nade te razvojne programe. Održavat će se u uredu CIRSP-a na Kineziološkom fakultetu Sveučilišta u Zagrebu i Splitu\, uz mogućnost sudjelovanja i online putem. \nSvrha radionica: Radionice su predviđene za trenere koji žele steći nova znanja i vještine u radu sa sportašima\, nadograditi postojeće kompetencije i pratiti aktualne trendove u sportu. Cilj radionica je sustavno razvijati trenerske vještine\, omogućiti dijeljenje iskustava među trenerima iz različitih sportskih grana\, te doprinijeti unapređenju hrvatskog sporta na svim razinama.
URL:https://cirsp.hr/dogadanje/igor-cerensek-s-dinom-levacic-kako-preplivati-ocean-podcast-uzivo/
ORGANIZER;CN="CIRSP":MAILTO:cirsp@hoo.hr
END:VEVENT
BEGIN:VEVENT
DTSTART;TZID=Europe/Zagreb:20251016T120000
DTEND;TZID=Europe/Zagreb:20251016T140000
DTSTAMP:20260422T235942
CREATED:20250924T094827Z
LAST-MODIFIED:20250924T094827Z
UID:9538-1760616000-1760623200@cirsp.hr
SUMMARY:Sebastijan Orlić- Održavanje tjelesne mase i kompozicije u sportu
DESCRIPTION:Radionice su namijenjene trenerima sportaša uključenih u programe HOO-a\, uključujući olimpijski program\, program Olimpijske nade te razvojne programe. Održavat će se u uredu CIRSP-a na Kineziološkom fakultetu Sveučilišta u Zagrebu i Splitu\, uz mogućnost sudjelovanja i online putem. \nSvrha radionica: Radionice su predviđene za trenere koji žele steći nova znanja i vještine u radu sa sportašima\, nadograditi postojeće kompetencije i pratiti aktualne trendove u sportu. Cilj radionica je sustavno razvijati trenerske vještine\, omogućiti dijeljenje iskustava među trenerima iz različitih sportskih grana\, te doprinijeti unapređenju hrvatskog sporta na svim razinama.
URL:https://cirsp.hr/dogadanje/sebastijan-orlic-odrzavanje-tjelesne-mase-i-kompozicije-u-sportu/
ORGANIZER;CN="CIRSP":MAILTO:cirsp@hoo.hr
END:VEVENT
BEGIN:VEVENT
DTSTART;TZID=Europe/Zagreb:20251010T120000
DTEND;TZID=Europe/Zagreb:20251010T140000
DTSTAMP:20260422T235942
CREATED:20250924T094734Z
LAST-MODIFIED:20250924T094734Z
UID:9536-1760097600-1760104800@cirsp.hr
SUMMARY:Pero Kuterovac- Metodika razvoja jakosti
DESCRIPTION:Radionice su namijenjene trenerima sportaša uključenih u programe HOO-a\, uključujući olimpijski program\, program Olimpijske nade te razvojne programe. Održavat će se u uredu CIRSP-a na Kineziološkom fakultetu Sveučilišta u Zagrebu i Splitu\, uz mogućnost sudjelovanja i online putem. \nSvrha radionica: Radionice su predviđene za trenere koji žele steći nova znanja i vještine u radu sa sportašima\, nadograditi postojeće kompetencije i pratiti aktualne trendove u sportu. Cilj radionica je sustavno razvijati trenerske vještine\, omogućiti dijeljenje iskustava među trenerima iz različitih sportskih grana\, te doprinijeti unapređenju hrvatskog sporta na svim razinama.
URL:https://cirsp.hr/dogadanje/pero-kuterovac-metodika-razvoja-jakosti/
ORGANIZER;CN="CIRSP":MAILTO:cirsp@hoo.hr
END:VEVENT
BEGIN:VEVENT
DTSTART;TZID=Europe/Zagreb:20251006T120000
DTEND;TZID=Europe/Zagreb:20251006T140000
DTSTAMP:20260422T235942
CREATED:20250924T094628Z
LAST-MODIFIED:20250924T094628Z
UID:9534-1759752000-1759759200@cirsp.hr
SUMMARY:Igor Čerenšek- Zona „optimalno stanje uma“
DESCRIPTION:Radionice su namijenjene trenerima sportaša uključenih u programe HOO-a\, uključujući olimpijski program\, program Olimpijske nade te razvojne programe. Održavat će se u uredu CIRSP-a na Kineziološkom fakultetu Sveučilišta u Zagrebu i Splitu\, uz mogućnost sudjelovanja i online putem. \nSvrha radionica: Radionice su predviđene za trenere koji žele steći nova znanja i vještine u radu sa sportašima\, nadograditi postojeće kompetencije i pratiti aktualne trendove u sportu. Cilj radionica je sustavno razvijati trenerske vještine\, omogućiti dijeljenje iskustava među trenerima iz različitih sportskih grana\, te doprinijeti unapređenju hrvatskog sporta na svim razinama.
URL:https://cirsp.hr/dogadanje/igor-cerensek-zona-optimalno-stanje-uma/
ORGANIZER;CN="CIRSP":MAILTO:cirsp@hoo.hr
END:VEVENT
BEGIN:VEVENT
DTSTART;TZID=Europe/Zagreb:20251002T120000
DTEND;TZID=Europe/Zagreb:20251002T140000
DTSTAMP:20260422T235942
CREATED:20250924T094428Z
LAST-MODIFIED:20250924T094428Z
UID:9531-1759406400-1759413600@cirsp.hr
SUMMARY:Martina Dadić- Prehrana u cilju optimizacije performansi u sportovima snage
DESCRIPTION:Radionice su namijenjene trenerima sportaša uključenih u programe HOO-a\, uključujući olimpijski program\, program Olimpijske nade te razvojne programe. Održavat će se u uredu CIRSP-a na Kineziološkom fakultetu Sveučilišta u Zagrebu i Splitu\, uz mogućnost sudjelovanja i online putem. \nSvrha radionica: Radionice su predviđene za trenere koji žele steći nova znanja i vještine u radu sa sportašima\, nadograditi postojeće kompetencije i pratiti aktualne trendove u sportu. Cilj radionica je sustavno razvijati trenerske vještine\, omogućiti dijeljenje iskustava među trenerima iz različitih sportskih grana\, te doprinijeti unapređenju hrvatskog sporta na svim razinama.
URL:https://cirsp.hr/dogadanje/martina-dadic-prehrana-u-cilju-optimizacije-performansi-u-sportovima-snage/
ORGANIZER;CN="CIRSP":MAILTO:cirsp@hoo.hr
END:VEVENT
BEGIN:VEVENT
DTSTART;TZID=Europe/Zagreb:20250529T120000
DTEND;TZID=Europe/Zagreb:20250529T140000
DTSTAMP:20260422T235942
CREATED:20250508T091639Z
LAST-MODIFIED:20250508T092159Z
UID:9226-1748520000-1748527200@cirsp.hr
SUMMARY:Stella Mirić - Nutritivne strategije: kada\, koliko i kako za optimizaciju sportske izvedbe
DESCRIPTION:Radionice su namijenjene trenerima sportaša uključenih u programe HOO-a\, uključujući olimpijski program\, program Olimpijske nade te razvojne programe. Održavat će se u uredu CIRSP-a na Kineziološkom fakultetu Sveučilišta u Zagrebu i Splitu\, uz mogućnost sudjelovanja i online putem. \nSvrha radionica: Radionice su predviđene za trenere koji žele steći nova znanja i vještine u radu sa sportašima\, nadograditi postojeće kompetencije i pratiti aktualne trendove u sportu. Cilj radionica je sustavno razvijati trenerske vještine\, omogućiti dijeljenje iskustava među trenerima iz različitih sportskih grana\, te doprinijeti unapređenju hrvatskog sporta na svim razinama.
URL:https://cirsp.hr/dogadanje/stella-miric-nutritivne-strategije-kada-koliko-i-kako-za-optimizaciju-sportske-izvedbe/
ORGANIZER;CN="CIRSP":MAILTO:cirsp@hoo.hr
END:VEVENT
BEGIN:VEVENT
DTSTART;TZID=Europe/Zagreb:20250523T120000
DTEND;TZID=Europe/Zagreb:20250523T140000
DTSTAMP:20260422T235942
CREATED:20250508T091544Z
LAST-MODIFIED:20250508T092420Z
UID:9224-1748001600-1748008800@cirsp.hr
SUMMARY:Marin Dadić - Oporavak u sportu: update 2025.
DESCRIPTION:Radionice su namijenjene trenerima sportaša uključenih u programe HOO-a\, uključujući olimpijski program\, program Olimpijske nade te razvojne programe. Održavat će se u uredu CIRSP-a na Kineziološkom fakultetu Sveučilišta u Zagrebu i Splitu\, uz mogućnost sudjelovanja i online putem. \nSvrha radionica: Radionice su predviđene za trenere koji žele steći nova znanja i vještine u radu sa sportašima\, nadograditi postojeće kompetencije i pratiti aktualne trendove u sportu. Cilj radionica je sustavno razvijati trenerske vještine\, omogućiti dijeljenje iskustava među trenerima iz različitih sportskih grana\, te doprinijeti unapređenju hrvatskog sporta na svim razinama.
URL:https://cirsp.hr/dogadanje/marin-dadic-oporavak-u-sportu-update-2025/
ORGANIZER;CN="CIRSP":MAILTO:cirsp@hoo.hr
END:VEVENT
BEGIN:VEVENT
DTSTART;TZID=Europe/Zagreb:20250516T120000
DTEND;TZID=Europe/Zagreb:20250516T140000
DTSTAMP:20260422T235942
CREATED:20250508T091359Z
LAST-MODIFIED:20250508T092430Z
UID:9218-1747396800-1747404000@cirsp.hr
SUMMARY:Šime Veršić - (Ne)kontrolabilni faktori rizika od ozljeda
DESCRIPTION:Radionice su namijenjene trenerima sportaša uključenih u programe HOO-a\, uključujući olimpijski program\, program Olimpijske nade te razvojne programe. Održavat će se u uredu CIRSP-a na Kineziološkom fakultetu Sveučilišta u Zagrebu i Splitu\, uz mogućnost sudjelovanja i online putem. \nSvrha radionica: Radionice su predviđene za trenere koji žele steći nova znanja i vještine u radu sa sportašima\, nadograditi postojeće kompetencije i pratiti aktualne trendove u sportu. Cilj radionica je sustavno razvijati trenerske vještine\, omogućiti dijeljenje iskustava među trenerima iz različitih sportskih grana\, te doprinijeti unapređenju hrvatskog sporta na svim razinama.
URL:https://cirsp.hr/dogadanje/sime-versic-nekontrolabilni-faktori-rizika-od-ozljeda/
LOCATION:Kineziološki fakultet u Splitu\, Ul. Nikole Tesle 6\, Split\, Hrvatska\, 21000
ORGANIZER;CN="CIRSP":MAILTO:cirsp@hoo.hr
END:VEVENT
BEGIN:VEVENT
DTSTART;TZID=Europe/Zagreb:20250508T120000
DTEND;TZID=Europe/Zagreb:20250508T140000
DTSTAMP:20260422T235942
CREATED:20250508T084715Z
LAST-MODIFIED:20250508T092435Z
UID:9210-1746705600-1746712800@cirsp.hr
SUMMARY:Matej Tomazin - Mentalne simulacije kroz sezone
DESCRIPTION:Radionice su namijenjene trenerima sportaša uključenih u programe HOO-a\, uključujući olimpijski program\, program Olimpijske nade te razvojne programe. Održavat će se u uredu CIRSP-a na Kineziološkom fakultetu Sveučilišta u Zagrebu i Splitu\, uz mogućnost sudjelovanja i online putem. \nSvrha radionica: Radionice su predviđene za trenere koji žele steći nova znanja i vještine u radu sa sportašima\, nadograditi postojeće kompetencije i pratiti aktualne trendove u sportu. Cilj radionica je sustavno razvijati trenerske vještine\, omogućiti dijeljenje iskustava među trenerima iz različitih sportskih grana\, te doprinijeti unapređenju hrvatskog sporta na svim razinama.
URL:https://cirsp.hr/dogadanje/matej-tomazin-mentalne-simulacije-kroz-sezone/
LOCATION:Kineziološki fakultet\, centralni ured CIRSP-a u Zagrebu\, Horvaćanski zavoj 15\, Zagreb\, Hrvatska\, 10110
ORGANIZER;CN="CIRSP":MAILTO:cirsp@hoo.hr
END:VEVENT
END:VCALENDAR